BEGIN:VCALENDAR
VERSION:2.0
PRODID:-//Safetypaysus - ECPv6.11.2.1//NONSGML v1.0//EN
CALSCALE:GREGORIAN
METHOD:PUBLISH
X-WR-CALNAME:Safetypaysus
X-ORIGINAL-URL:https://www.safetypays.us
X-WR-CALDESC:Events for Safetypaysus
REFRESH-INTERVAL;VALUE=DURATION:PT1H
X-Robots-Tag:noindex
X-PUBLISHED-TTL:PT1H
BEGIN:VTIMEZONE
TZID:America/New_York
BEGIN:DAYLIGHT
TZOFFSETFROM:-0500
TZOFFSETTO:-0400
TZNAME:EDT
DTSTART:20300310T070000
END:DAYLIGHT
BEGIN:STANDARD
TZOFFSETFROM:-0400
TZOFFSETTO:-0500
TZNAME:EST
DTSTART:20301103T060000
END:STANDARD
END:VTIMEZONE
BEGIN:VEVENT
DTSTART;TZID=America/New_York:20300511T080000
DTEND;TZID=America/New_York:20300511T160000
DTSTAMP:20260425T093935
CREATED:20250514T085956Z
LAST-MODIFIED:20250514T212813Z
UID:10001945-1904716800-1904745600@www.safetypays.us
SUMMARY:16-Hour SST Supervisor Refresher/ Day 1 of 2
DESCRIPTION:$495.00\n\n\n\n\nDESCRIPTION\n\n\n\n\n\n\n\n\n\nTo renew Supervisor SST cards\, workers must complete 16 – hours of refresher training\, in compliance with Local Law 196 and the NYC Building Code. \n\n\n\n\n\n\n\n\n\n\n\n\n\n\n\nTOPICS INCLUDE\n\n\n\n• 8 Hour Site Safety\n• 8 Hour Fall Prevention \n\n\n\n\n\n\n\n\n\n\n\n\n\n\n\n\nOBJECTIVES\n\n\n\n\n\n\n\n\n\n\n\n\n\n\n\n\nRecognize\, avoid and prevent fall hazards.\nBe aware of regulatory safety requirements associated with falls\, including OSHA’s Subpart M.\nLearn how to navigate the DOB website to select appropriate Building Codes\, New York City Rules\, Bulletins and applications.\nIdentify the rules and regulations that were promulgated after serious construction accidents in New York City.\nChoose safe work practices at their construction sites based on prudent decision-making.\nDifferentiate between OSHA standards and Chapter 33.\nUnderstand code requirements for construction in NYC including standpipes\, elevators\, protections\, sheds\, stairs\, egress\, notifications\, etc.\nUnderstand Local Law 196\n\n\n\n\n\n\n\n\n\n\n\n\n\n\n\n\n\n\nCOURSE MATERIALS\n\n\n\n\n\n\n\n\n\n\n\n\nThis course consists of several different components which include power point presentations\, lectures\, class discussions and participation with hands on demonstrations. \n\n\n\n\n\n\n\n\n\n\n\n\n\n\n\nPREREQUISITES\n\n\n\n\n\n\n\n\n\nMust have a valid Site Safety Training (SST) card in compliance with Local Law 196 and the NYC Building Code.
URL:https://www.safetypays.us/event/16-hour-sst-supervisor-refresher/2030-05-11/
CATEGORIES:Upcoming Classes
END:VEVENT
BEGIN:VEVENT
DTSTART;TZID=America/New_York:20300512T080000
DTEND;TZID=America/New_York:20300512T160000
DTSTAMP:20260425T093935
CREATED:20250514T211514Z
LAST-MODIFIED:20250514T212742Z
UID:10002067-1904803200-1904832000@www.safetypays.us
SUMMARY:16-Hour SST Supervisor Refresher/ Day 2 of 2
DESCRIPTION:$495.00\n\n\n\n\nDESCRIPTION\n\n\n\n\n\n\n\n\n\nTo renew Supervisor SST cards\, workers must complete 16 – hours of refresher training\, in compliance with Local Law 196 and the NYC Building Code. \n\n\n\n\n\n\n\n\n\n\n\n\n\n\n\nTOPICS INCLUDE\n\n\n\n• 8 Hour Site Safety\n• 8 Hour Fall Prevention \n\n\n\n\n\n\n\n\n\n\n\n\n\n\n\n\nOBJECTIVES\n\n\n\n\n\n\n\n\n\n\n\n\n\n\n\n\nRecognize\, avoid and prevent fall hazards.\nBe aware of regulatory safety requirements associated with falls\, including OSHA’s Subpart M.\nLearn how to navigate the DOB website to select appropriate Building Codes\, New York City Rules\, Bulletins and applications.\nIdentify the rules and regulations that were promulgated after serious construction accidents in New York City.\nChoose safe work practices at their construction sites based on prudent decision-making.\nDifferentiate between OSHA standards and Chapter 33.\nUnderstand code requirements for construction in NYC including standpipes\, elevators\, protections\, sheds\, stairs\, egress\, notifications\, etc.\nUnderstand Local Law 196\n\n\n\n\n\n\n\n\n\n\n\n\n\n\n\n\n\n\nCOURSE MATERIALS\n\n\n\n\n\n\n\n\n\n\n\n\nThis course consists of several different components which include power point presentations\, lectures\, class discussions and participation with hands on demonstrations. \n\n\n\n\n\n\n\n\n\n\n\n\n\n\n\nPREREQUISITES\n\n\n\n\n\n\n\n\n\nMust have a valid Site Safety Training (SST) card in compliance with Local Law 196 and the NYC Building Code.
URL:https://www.safetypays.us/event/16-hour-sst-supervisor-refresher-day-2-of-2/2030-05-12/
CATEGORIES:Upcoming Classes
END:VEVENT
END:VCALENDAR